BEGIN:VCALENDAR
VERSION:2.0
PRODID:-//Technical Training Aids - ECPv6.15.18//NONSGML v1.0//EN
CALSCALE:GREGORIAN
METHOD:PUBLISH
X-ORIGINAL-URL:https://ttaweb.com
X-WR-CALDESC:Events for Technical Training Aids
REFRESH-INTERVAL;VALUE=DURATION:PT1H
X-Robots-Tag:noindex
X-PUBLISHED-TTL:PT1H
BEGIN:VTIMEZONE
TZID:America/Chicago
BEGIN:DAYLIGHT
TZOFFSETFROM:-0600
TZOFFSETTO:-0500
TZNAME:CDT
DTSTART:20160313T080000
END:DAYLIGHT
BEGIN:STANDARD
TZOFFSETFROM:-0500
TZOFFSETTO:-0600
TZNAME:CST
DTSTART:20161106T070000
END:STANDARD
BEGIN:DAYLIGHT
TZOFFSETFROM:-0600
TZOFFSETTO:-0500
TZNAME:CDT
DTSTART:20170312T080000
END:DAYLIGHT
BEGIN:STANDARD
TZOFFSETFROM:-0500
TZOFFSETTO:-0600
TZNAME:CST
DTSTART:20171105T070000
END:STANDARD
BEGIN:DAYLIGHT
TZOFFSETFROM:-0600
TZOFFSETTO:-0500
TZNAME:CDT
DTSTART:20180311T080000
END:DAYLIGHT
BEGIN:STANDARD
TZOFFSETFROM:-0500
TZOFFSETTO:-0600
TZNAME:CST
DTSTART:20181104T070000
END:STANDARD
END:VTIMEZONE
BEGIN:VEVENT
DTSTART;TZID=America/Chicago:20170724T090000
DTEND;TZID=America/Chicago:20170728T120000
DTSTAMP:20260422T153913
CREATED:20170503T134917Z
LAST-MODIFIED:20170713T213322Z
UID:2349-1500886800-1501243200@ttaweb.com
SUMMARY:Alabama Certification Workshop
DESCRIPTION:Technical Training Aids is proud to be partnering with the following industries to provide a hands-on workshop the week of July 24th thru 28th at The Academy at the Fairhope Airport: \n\nFANUC Robotics – Paul Aiello\, FANUC Educational Sales Manager\nFANUC CNC – Dean Steadman\, FANUC CNC Educational Manager\nAPT Manufacturing – Tony Nighswander\, President & Chad Wilford\, Education Sales Director\nLevil – Andres Leon\, Operations Manager\nSolidWorks – Ryan Koehler\, Global Field Operations Specialist\nAmatrol – Kent Powell\, National Sales Manager & Dan Heim\, Southeast Sales Manager\nMinds-i – Levi Wilson\, General Manager\nAutel Robotics – Presented by Technical Training Aids\nDARTdrones – Presented by Technical Training Aids\n\nWe will discuss the FANUC Robotics and CNC certification procedure\, requirements\, and locations.  The curriculum\, including on-line software\, books\, materials will be available.  Levil CNC milling and Lathe equipment will be on-site\, which is used in the FANUC certification\, and will be presented by Levil and FANUC.  APT Manufacturing Solutions\, one of FANUC’s largest integrators\, will be on site all week to present hands on opportunities with Robotics and Automation.  They are showcasing an automated SIM cell that includes FANUC robotics\, AB area safety control and an industrial conveyor.  FANUC and Rockwell have developed a certification that will be covered. \nAmatrol will present MSSC\, NIMS Industrial Maintenance Certification\, PMMI\, and other certifications and eLearning\, including Amatrol’s LAP’s and Student reference guides. These certifications take hours of study\, preparations and testing\, both on-line and on-site.  This workshop will not have the time needed to offer a certifications test in these areas\, but will help you prepare for them. \nSolidworks will be on-site Thursday and Friday to offer a CSWA certification\, you will attend a prep day on Thursday and certification on Friday.  The certification cost is $350.00 if you choose to do it. \nDARTdrones will be offering a video conference program on Thursday and Friday and will be covering the requirements for the part 107 Drones certification.  The actual test is only offered at approved FAA locations\, published on the FAA website.  We will cover the questions and requirements for the test and include a practice exam. The cost of this workshop is $550.00 and includes the software for the Instructors to take back and use. \n\nSCHEDULE OF EVENTS\n\nMonday July 24th 9:00 a.m.  to 2:30 p.m.\n\nRoom 122: FANUC Robotics certifications presentation w/ APT Advanced Systems\nRoom 115: Minds-I Robotics and Drones Workshop\n\n\nTuesday July 25th 9:00 a.m. to 2:30 p.m.\n\nRoom 122: Amatrol presents certification information on MSSC\, NIM’s\, PMMI.  Stratasys and Solidworks present 3D Printing and Engineering Design\nRoom 115: Minds-I Robotics and Drones Workshop\n\n\nWednesday July 26th 9:00 a.m. to 2:30 p.m.\n\nRoom 122: FANUC CNC certifications presentation\, APT Advanced Systems and Levil Equipment overview\nRoom 115: Minds-I Robotics and Drones Workshop\n\n\nThurdsay July 27th 9:00 a.m. to 2:30 p.m.\n\nRoom 115: Solidworks presenting CSWA certification workshop\nRoom 111: DARTdrones presenting FAA part 107 certifications workshop\n\n\nFriday July 28th 9:00 a.m. to 12:00 p.m.\n\nRoom 115: Solidworks certification testing\nRoom 111: DARTdrones practice testing for FAA part 107 certifications\n\n\n\n\nREGISTRATION DETAILS\nThere will be hands-on training with the equipment and open time for discussion.  There is no cost to attend\, unless you are wanting to participate in either the SolidWorks or Part 107 Drones certification workshops. \nSeating IS limited\, so please as soon as possible to reserve your spot! \n \n\nCONTACT INFORMATION\nIf you have questions or need further details\, please contact: \nBobby Conrad \nbobby@ttaweb.com \n205-936-1485 \nOR \nErin Ivey \nerin@ttaweb.com \n800-851-3987×9142 \n\nHOTEL INFORMATION\nWe have partnered with the local Hampton Inn for a special workshop rate – just mention Technical Training Aids when booking! \nClick to visit the Hampton Inn – Fairhope website or call directly at: 251-928-0956. \n\nPARTICIPATING INDUSTRY PARTNERS 
URL:https://ttaweb.com/event/al-cert-wksp/
LOCATION:The Academy at the Fairhope Airport\, 8600-B County Road 32\, Fairhope\, AL\, 36532\, United States
CATEGORIES:Events,Training,Workshops
ATTACH;FMTTYPE=image/jpeg:https://ttaweb.com/wp-content/uploads/2017/05/FhpeAcadLandscape.jpg
ORGANIZER;CN="Technical Training Aids":MAILTO:sales@ttaweb.com
GEO:30.472454;-87.8756445
X-APPLE-STRUCTURED-LOCATION;VALUE=URI;X-ADDRESS=The Academy at the Fairhope Airport 8600-B County Road 32 Fairhope AL 36532 United States;X-APPLE-RADIUS=500;X-TITLE=8600-B County Road 32:geo:-87.8756445,30.472454
END:VEVENT
END:VCALENDAR