BEGIN:VCALENDAR
VERSION:2.0
PRODID:-//Technical Training Aids - ECPv6.15.18//NONSGML v1.0//EN
CALSCALE:GREGORIAN
METHOD:PUBLISH
X-WR-CALNAME:Technical Training Aids
X-ORIGINAL-URL:https://ttaweb.com
X-WR-CALDESC:Events for Technical Training Aids
REFRESH-INTERVAL;VALUE=DURATION:PT1H
X-Robots-Tag:noindex
X-PUBLISHED-TTL:PT1H
BEGIN:VTIMEZONE
TZID:America/Chicago
BEGIN:DAYLIGHT
TZOFFSETFROM:-0600
TZOFFSETTO:-0500
TZNAME:CDT
DTSTART:20150308T080000
END:DAYLIGHT
BEGIN:STANDARD
TZOFFSETFROM:-0500
TZOFFSETTO:-0600
TZNAME:CST
DTSTART:20151101T070000
END:STANDARD
BEGIN:DAYLIGHT
TZOFFSETFROM:-0600
TZOFFSETTO:-0500
TZNAME:CDT
DTSTART:20160313T080000
END:DAYLIGHT
BEGIN:STANDARD
TZOFFSETFROM:-0500
TZOFFSETTO:-0600
TZNAME:CST
DTSTART:20161106T070000
END:STANDARD
BEGIN:DAYLIGHT
TZOFFSETFROM:-0600
TZOFFSETTO:-0500
TZNAME:CDT
DTSTART:20170312T080000
END:DAYLIGHT
BEGIN:STANDARD
TZOFFSETFROM:-0500
TZOFFSETTO:-0600
TZNAME:CST
DTSTART:20171105T070000
END:STANDARD
END:VTIMEZONE
BEGIN:VEVENT
DTSTART;TZID=America/Chicago:20160511T083000
DTEND;TZID=America/Chicago:20160511T160000
DTSTAMP:20260421T070158
CREATED:20160422T212518Z
LAST-MODIFIED:20160525T193151Z
UID:1106-1462955400-1462982400@ttaweb.com
SUMMARY:Additive Manufacturing Workshop at Joe Gibbs Racing
DESCRIPTION:Technical Training Aids and partner\, Prototyping Solutions\, are hosting a workshop at the Joe Gibbs Racing facility in Huntersville\, NC\, on May 11th from 8:30am – 4:00 pm (EDT). \nThis hands-on workshop will include presentations from representatives of Artec 3D Scanners\, DezignWorks software\, and Stratasys and will cover topics ranging from the entire design-to-print process (3d scanning\, conversion of drawings to print files\, and 3D printing) to new printer and software releases from Stratasys and will even include information on educational curriculum\, SkillsUSA and other contests where local students can show off their skills.  Additive manufacturing uses\, applications\, and successful real-life examples will be discussed from various industries and the event will conclude with a tour of the Joe Gibbs facility.  People from all industries and backgrounds\, including educators\, are encouraged to register and there is no cost to attend.  Those who pre-register will even be provided with complimentary lunch from Groucho’s Deli during the workshop!  Groucho’s Deli is owned by the Gibb’s family and gives 100% of the deli’s profits to charity – click here to read more about this charitable venture. \nClick below to register and secure your complimentary lunch* from Groucho’s Deli!   \n \n*Complimentary lunch will be provided by Technical Training Aids and Prototyping Solutions for pre-registered attendees only
URL:https://ttaweb.com/event/additive-manufacturing-workshop-joe-gibbs-racing/
LOCATION:Joe Gibbs Racing – Auditorium\, 13415 Reese Blvd West\, Huntersville\, NC\, 28078\, United States
CATEGORIES:Workshops
ATTACH;FMTTYPE=image/png:https://ttaweb.com/wp-content/uploads/2016/04/25thLogo-FINAL-website.png
ORGANIZER;CN="Rob Alge":MAILTO:rob@ttaweb.com
GEO:35.396436;-80.8653
X-APPLE-STRUCTURED-LOCATION;VALUE=URI;X-ADDRESS=Joe Gibbs Racing – Auditorium 13415 Reese Blvd West Huntersville NC 28078 United States;X-APPLE-RADIUS=500;X-TITLE=13415 Reese Blvd West:geo:-80.8653,35.396436
END:VEVENT
END:VCALENDAR