BEGIN:VCALENDAR
VERSION:2.0
PRODID:-//Technical Training Aids - ECPv6.15.18//NONSGML v1.0//EN
CALSCALE:GREGORIAN
METHOD:PUBLISH
X-WR-CALNAME:Technical Training Aids
X-ORIGINAL-URL:https://ttaweb.com
X-WR-CALDESC:Events for Technical Training Aids
REFRESH-INTERVAL;VALUE=DURATION:PT1H
X-Robots-Tag:noindex
X-PUBLISHED-TTL:PT1H
BEGIN:VTIMEZONE
TZID:America/Chicago
BEGIN:DAYLIGHT
TZOFFSETFROM:-0600
TZOFFSETTO:-0500
TZNAME:CDT
DTSTART:20190310T080000
END:DAYLIGHT
BEGIN:STANDARD
TZOFFSETFROM:-0500
TZOFFSETTO:-0600
TZNAME:CST
DTSTART:20191103T070000
END:STANDARD
BEGIN:DAYLIGHT
TZOFFSETFROM:-0600
TZOFFSETTO:-0500
TZNAME:CDT
DTSTART:20200308T080000
END:DAYLIGHT
BEGIN:STANDARD
TZOFFSETFROM:-0500
TZOFFSETTO:-0600
TZNAME:CST
DTSTART:20201101T070000
END:STANDARD
BEGIN:DAYLIGHT
TZOFFSETFROM:-0600
TZOFFSETTO:-0500
TZNAME:CDT
DTSTART:20210314T080000
END:DAYLIGHT
BEGIN:STANDARD
TZOFFSETFROM:-0500
TZOFFSETTO:-0600
TZNAME:CST
DTSTART:20211107T070000
END:STANDARD
BEGIN:DAYLIGHT
TZOFFSETFROM:-0600
TZOFFSETTO:-0500
TZNAME:CDT
DTSTART:20220313T080000
END:DAYLIGHT
BEGIN:STANDARD
TZOFFSETFROM:-0500
TZOFFSETTO:-0600
TZNAME:CST
DTSTART:20221106T070000
END:STANDARD
BEGIN:DAYLIGHT
TZOFFSETFROM:-0600
TZOFFSETTO:-0500
TZNAME:CDT
DTSTART:20230312T080000
END:DAYLIGHT
BEGIN:STANDARD
TZOFFSETFROM:-0500
TZOFFSETTO:-0600
TZNAME:CST
DTSTART:20231105T070000
END:STANDARD
BEGIN:DAYLIGHT
TZOFFSETFROM:-0600
TZOFFSETTO:-0500
TZNAME:CDT
DTSTART:20240310T080000
END:DAYLIGHT
BEGIN:STANDARD
TZOFFSETFROM:-0500
TZOFFSETTO:-0600
TZNAME:CST
DTSTART:20241103T070000
END:STANDARD
END:VTIMEZONE
BEGIN:VEVENT
DTSTART;TZID=America/Chicago:20230731T080000
DTEND;TZID=America/Chicago:20230731T170000
DTSTAMP:20260422T100655
CREATED:20230731T193000Z
LAST-MODIFIED:20230731T213429Z
UID:6259-1690790400-1690822800@ttaweb.com
SUMMARY:2023 MSSC Instructor’s Conference & 25th Anniversary Commemoration Webinar
DESCRIPTION:  \nIn 1998\, the federal National Skill Standards Board endorsed the Manufacturing Skill Standards Council as the “Voluntary Partnership” of industry\, labor and education responsible for defining the industry-wide skill standards for front-line production and logistics workers. \nNow commemorating 25 years of upskilling America’s workforce\, MSSC has grown far beyond initial expectations into a national institution of over 2000 Authorized Assessment Centers and 3300+ Authorized Instructors. It is through collaborative efforts with our many strategic partners that thousands of individuals across the county have been given the necessary skills and credentials to secure a path for in-demand and lucrative careers. \nClick on the button below to learn more about and register for this year’s virtual MSSC Instructor’s Conference & 25th Anniversary Commemoration.
URL:https://ttaweb.com/event/2023-instructors-conference-25th-anniversary-commemoration-webinar/
LOCATION:Online
CATEGORIES:Events,Webinar
END:VEVENT
BEGIN:VEVENT
DTSTART;TZID=America/Chicago:20220414T100000
DTEND;TZID=America/Chicago:20220414T110000
DTSTAMP:20260422T100655
CREATED:20220413T144922Z
LAST-MODIFIED:20220413T145152Z
UID:5626-1649930400-1649934000@ttaweb.com
SUMMARY:MSSC Webinar: Preparing the Next Generation Workforce for Industry 4.0 Skills with MSSC CPT
DESCRIPTION:ATTENTION AL\, GA\, KY\, NC\, SC\, and TN CTE TEACHER AND TRAINERS: HAPPENING TOMORROW\, APRIL 14TH @ 11 A.M. ET\n\n\n \n\n\n\n\nManufacturing Skill Standards Council (MSSC) and Technical Training Aids\, Inc. will be hosting a 1-hour live regional webinar highlighting the importance of prepping our manufacturing workforce to be industry 4.0 ready with our updated CPT 4.0 Training and Certification System.\n\n\n \n\n\nBased on extensive research with leading industry subject matter experts\, MSSC has selected a list of nine rapidly emerging\, data-intensive\, Industry 4.0 technologies that will profoundly influence manufacturing production processes and quality control: 5G\, Artificial Intelligence (AI)\, Industrial Internet of Things (IIOT)\, Additive (3D) Manufacturing\, Autonomous Robots\, Augmented Reality\, Data Analytics\, Nanomanufacturing\, and Advanced Materials. When paired with the Amatrol Inc. #SkillBoss Manufacturing Device\, our updated 4.0 system will bring your training program to grand new heights!\n\n\n \n\n\n\n \n\n\nCan’t make it? A recording of all the webinar will be made available!\n\n\n\nQuestions? Contact MSSC Marketing at 703-739-9000!
URL:https://ttaweb.com/event/mssc-webinar-preparing-the-next-generation-workforce-for-industry-4-0-skills-with-mssc-cpt/
LOCATION:Online
CATEGORIES:Events,Webinar
ORGANIZER;CN="Technical Training Aids":MAILTO:sales@ttaweb.com
END:VEVENT
BEGIN:VEVENT
DTSTART;TZID=America/Chicago:20220224T130000
DTEND;TZID=America/Chicago:20220224T140000
DTSTAMP:20260422T100655
CREATED:20220218T202932Z
LAST-MODIFIED:20220218T203533Z
UID:5587-1645707600-1645711200@ttaweb.com
SUMMARY:Webinar: Educating and Upskilling with Skill Boss Logisitcs
DESCRIPTION:  \nJoin the Manufacturing Skill Standards Council (MSSC) & Amatrol in collaboration with the National Coalition of Advanced Technology Centers (NCATC)\, February 24th at 2pm EST\, for an engaging and informative discussion on the “Next Generation Workforce Certification: Innovative Tools for Educating and Upskilling Supply Chain Automation Technicians.” \nThe centerpiece of this discussion will be about the launch of the MSSC Certified Technician-Supply Chain Automation (CT-SCA) certification system and the hands-on training and assessment device\, Skill Boss Logistics\, invented by Amatrol. \nThe end goal of this training and certification system is to provide a pipeline of much-needed automation technicians for distribution\, fulfillment centers\, and warehousing operations. These automation technicians will be critical to ensure that supply chain operations are technologically competitive\, can meet industry and customer needs\, and keep up with e-commerce demands. \nFor questions\, please contact Catherine Feeney\, Senior Marketing Director\, MSSC at cfeeney@msscusa.org.
URL:https://ttaweb.com/event/webinar-educating-and-upskilling-with-skill-boss-logisitcs/
LOCATION:Online
CATEGORIES:Events,Webinar
END:VEVENT
BEGIN:VEVENT
DTSTART;TZID=America/Chicago:20200820T080000
DTEND;TZID=America/Chicago:20200820T170000
DTSTAMP:20260422T100655
CREATED:20200806T134622Z
LAST-MODIFIED:20200806T135853Z
UID:4781-1597910400-1597942800@ttaweb.com
SUMMARY:MSSC Virtual Summit: Closing the Skills Gap in Texas in the Manufacturing and Logistics Sectors
DESCRIPTION:The Manufacturing Skill Standards Council (MSSC) invites you join us August 20th for our virtual Summit\, “MSSC: Closing the Skills Gap in Texas in the Manufacturing and Logistics Sectors.” This Summit will be an extraordinary gathering of many of the most prominent business\, government and education leaders in Texas and selected national experts. \nIt will highlight MSSC’s unique role in training and certifying large numbers of Texans in both Manufacturing and Logistics (M&L)\, two closely interrelated parts of the Texas economy with about the same number of front-line jobs (543\,000 for M\, and 482\,000 for L). \nThis Summit is free to attend and is open to attendees virtually nationwide. This will also give our MSSC Community an opportunity to learn from state agencies and critical community-based stakeholders\, i.e.\, WIBs\, secondary\, post-secondary\, industry\, economic development\, corrections\, and veterans/military program organizations. Please attend\, learn\, and share best practices within your states and communities. \nThe deadline to register is August 18th. For question or to request the agenda\, please contact Catherine Feeney\, Senior Marketing Manager\, MSSC at: cfeeney@msscusa.org \n 
URL:https://ttaweb.com/event/mssc-virtual-summit-closing-the-skills-gap-in-texas-in-the-manufacturing-and-logistics-sectors/
LOCATION:Online
CATEGORIES:Events,Workshops
END:VEVENT
BEGIN:VEVENT
DTSTART;TZID=America/Chicago:20200514T130000
DTEND;TZID=America/Chicago:20200514T140000
DTSTAMP:20260422T100655
CREATED:20200508T171123Z
LAST-MODIFIED:20200508T172015Z
UID:4642-1589461200-1589464800@ttaweb.com
SUMMARY:MSSC Webinar - CPT 4.0 - MSSC Instructor Best Practices Webinar
DESCRIPTION:Are your students ready for the transformational technologies that are changing the front-line production technician’s role in todays advanced manufacturing facilities? MSSC has developed the solution to meet your local workforce needs…CPT 4.0! \nEvent: CPT 4.0- MSSC Instructor Best Practices Webinar \nDate: May 14\, 2020 \nTime: 1-2 pm CST \nLocation: Zoom Webinar \n \nBased upon extensive research with leading national experts\, the Manufacturing Skill Standards Council (MSSC) has updated the Certified Production Technician (CPT) Standards to be “Industry 4.0” ready including nine rapidly emerging technologies with special relevance for manufacturing processes and quality control: \n\nIndustry 4.0 including 5G\nArtificial Intelligence (AI)\nAutonomous Robots\nAdditive (3D) Manufacturing\nData Analytics\nIndustrial Internet of Things (IIOT)\nAugmented Reality (AR)\nNanomanufacturing\nAdvanced Materials\n\nThe MSSC team invites you to attend a best practices webinar for MSSC Authorized Instructors on the additions of these technologies into the CPT Standards\, Instructor Training\, and Online E-learning Training Courses. \nJoin MSSC CPT Instructor Trainer\, Kathy Clayton & MSSC Senior Director of Product Development\, Bruce Dickson as they walk MSSC Instructors through the improved “Instructors Website” where Instructors will have access to updated syllabuses\, classroom resources\, customizable marketing material and more. How to incorporate these new technologies into the classroom and where these changes are occurring in the CPT 4.0 training courses will be covered as well. \nWe believe that this period of national recovery from COVID-19 is an ideal time for equipping America’s front-line production technicians & our MSSC Instructors with a deeper understanding of these “Industry 4.0” transformational technologies: \n\nA higher skilled workforce can improve cost-effectiveness\, quality and productivity to achieve even higher levels of economic growth than the nation was experiencing prior to the Coronavirus outbreak.\nFurloughed\, newly returning\, and incumbent technicians can quickly secure their CPT training using MSSC’s computer-simulation-based\, interactive eLearning offered by Amatrol\, Inc. and on-line\, remote testing using ProctorU.\n\nFollow this link to register and for questions\, please contact: Catherine Feeney\, Senior Marketing Manager\, MSSC  cfeeney@msscusa.org
URL:https://ttaweb.com/event/mssc-webinar-cpt-4-0-mssc-instructor-best-practices-webinar/
LOCATION:Online
CATEGORIES:Events,Webinar
END:VEVENT
END:VCALENDAR