BEGIN:VCALENDAR
VERSION:2.0
PRODID:-//Technical Training Aids - ECPv6.15.18//NONSGML v1.0//EN
CALSCALE:GREGORIAN
METHOD:PUBLISH
X-WR-CALNAME:Technical Training Aids
X-ORIGINAL-URL:https://ttaweb.com
X-WR-CALDESC:Events for Technical Training Aids
REFRESH-INTERVAL;VALUE=DURATION:PT1H
X-Robots-Tag:noindex
X-PUBLISHED-TTL:PT1H
BEGIN:VTIMEZONE
TZID:America/Chicago
BEGIN:DAYLIGHT
TZOFFSETFROM:-0600
TZOFFSETTO:-0500
TZNAME:CDT
DTSTART:20240310T080000
END:DAYLIGHT
BEGIN:STANDARD
TZOFFSETFROM:-0500
TZOFFSETTO:-0600
TZNAME:CST
DTSTART:20241103T070000
END:STANDARD
BEGIN:DAYLIGHT
TZOFFSETFROM:-0600
TZOFFSETTO:-0500
TZNAME:CDT
DTSTART:20250309T080000
END:DAYLIGHT
BEGIN:STANDARD
TZOFFSETFROM:-0500
TZOFFSETTO:-0600
TZNAME:CST
DTSTART:20251102T070000
END:STANDARD
BEGIN:DAYLIGHT
TZOFFSETFROM:-0600
TZOFFSETTO:-0500
TZNAME:CDT
DTSTART:20260308T080000
END:DAYLIGHT
BEGIN:STANDARD
TZOFFSETFROM:-0500
TZOFFSETTO:-0600
TZNAME:CST
DTSTART:20261101T070000
END:STANDARD
END:VTIMEZONE
BEGIN:VEVENT
DTSTART;VALUE=DATE:20250728
DTEND;VALUE=DATE:20250801
DTSTAMP:20260422T023756
CREATED:20250721T123236Z
LAST-MODIFIED:20250721T131537Z
UID:8002999-1753660800-1754006399@ttaweb.com
SUMMARY:Kentucky CTE Summer Program
DESCRIPTION:Don’t miss the 2025 Kentucky CTE Summer Program\, the state’s largest and most impactful professional development event for Career and Technical Education professionals. Taking place July 28–31 and managed by KACTE\, this statewide gathering offers unmatched opportunities to grow your expertise\, connect with peers\, and gain inspiration for the year ahead. With sessions tailored for all levels of instruction and across every CTE discipline\, the program promises to deliver fresh strategies\, innovative practices\, and policy insights that elevate student outcomes. A highlight of the event is the Awards Program and an inspiring keynote speaker who will celebrate the accomplishments and dedication of Kentucky’s CTE community. While only the Opening Session on July 29 will be livestreamed\, in-person attendance guarantees full access to workshops\, networking events\, and valuable resources. Whether you’re a classroom teacher\, administrator\, or industry partner\, this conference empowers you to lead with vision and purpose. Join hundreds of professionals committed to shaping the future of education and workforce development in Kentucky.
URL:https://ttaweb.com/event/kentucky-cte-summer-program/
LOCATION:Galt House Hotel\, 140 N Fourth St\, Louisville\, Kentucky\, 40202\, United States
CATEGORIES:Events
ATTACH;FMTTYPE=image/webp:https://ttaweb.com/wp-content/uploads/2025/07/KY-ACTE-thumb-e1753101122153.webp
ORGANIZER;CN="Kentucky Association for Career and Technical Education":MAILTO:kmstone1951@gmail.com
END:VEVENT
END:VCALENDAR