BEGIN:VCALENDAR
VERSION:2.0
PRODID:-//Technical Training Aids - ECPv6.15.18//NONSGML v1.0//EN
CALSCALE:GREGORIAN
METHOD:PUBLISH
X-WR-CALNAME:Technical Training Aids
X-ORIGINAL-URL:https://ttaweb.com
X-WR-CALDESC:Events for Technical Training Aids
REFRESH-INTERVAL;VALUE=DURATION:PT1H
X-Robots-Tag:noindex
X-PUBLISHED-TTL:PT1H
BEGIN:VTIMEZONE
TZID:America/Chicago
BEGIN:DAYLIGHT
TZOFFSETFROM:-0600
TZOFFSETTO:-0500
TZNAME:CDT
DTSTART:20150308T080000
END:DAYLIGHT
BEGIN:STANDARD
TZOFFSETFROM:-0500
TZOFFSETTO:-0600
TZNAME:CST
DTSTART:20151101T070000
END:STANDARD
BEGIN:DAYLIGHT
TZOFFSETFROM:-0600
TZOFFSETTO:-0500
TZNAME:CDT
DTSTART:20160313T080000
END:DAYLIGHT
BEGIN:STANDARD
TZOFFSETFROM:-0500
TZOFFSETTO:-0600
TZNAME:CST
DTSTART:20161106T070000
END:STANDARD
BEGIN:DAYLIGHT
TZOFFSETFROM:-0600
TZOFFSETTO:-0500
TZNAME:CDT
DTSTART:20170312T080000
END:DAYLIGHT
BEGIN:STANDARD
TZOFFSETFROM:-0500
TZOFFSETTO:-0600
TZNAME:CST
DTSTART:20171105T070000
END:STANDARD
END:VTIMEZONE
BEGIN:VEVENT
DTSTART;TZID=America/Chicago:20160922T080000
DTEND;TZID=America/Chicago:20160923T170000
DTSTAMP:20260423T130047
CREATED:20160809T170900Z
LAST-MODIFIED:20160815T200806Z
UID:1550-1474531200-1474650000@ttaweb.com
SUMMARY:45th Annual GACIS Fall Conference
DESCRIPTION:45th Annual GACIS Fall Conference \nInvitation to Exhibit and Sponsor \nSeptember 22-23 \nClassic Center \nAthens\, GA \nThe  Georgia Association of Curriculum and Instructional Supervisors (GACIS) invites you to take advantage of this unique opportunity to network with the decision makers who are in the market for new ideas\, resources\, and innovations to support teaching and learning at the 45th Annual GACIS Fall Conference.  The 2016 keynote speaker is Michael Fullan\, worldwide authority on educational reform and leadership\, and we anticipate record breaking attendance. In two days\, you have the ability to reach 800 to 1000 leaders from across the state who have buying power.  GACIS members/conference attendees are the decision makers concerning instructional materials printed or non-printed\, technology-based materials\, textbooks\, assessment tools\, electronic hardware and other resources to support teaching and learning.  Conference attendees have a variety of titles from assistant/associate superintendents; curriculum directors; directors of assessment; chief academic officer\, CTAE directors\, federal project directors; academic coaches; principals; assistant principals; and superintendents. \nDownload Complete Information
URL:https://ttaweb.com/event/45th-annual-gacis-fall-conference/
LOCATION:The Classic Center\, 300 North Thomas Street\, Athens\, GA\, 30601\, United States
GEO:33.9604651;-83.373026
X-APPLE-STRUCTURED-LOCATION;VALUE=URI;X-ADDRESS=The Classic Center 300 North Thomas Street Athens GA 30601 United States;X-APPLE-RADIUS=500;X-TITLE=300 North Thomas Street:geo:-83.373026,33.9604651
END:VEVENT
END:VCALENDAR