BEGIN:VCALENDAR
VERSION:2.0
PRODID:-//Technical Training Aids - ECPv6.15.18//NONSGML v1.0//EN
CALSCALE:GREGORIAN
METHOD:PUBLISH
X-ORIGINAL-URL:https://ttaweb.com
X-WR-CALDESC:Events for Technical Training Aids
REFRESH-INTERVAL;VALUE=DURATION:PT1H
X-Robots-Tag:noindex
X-PUBLISHED-TTL:PT1H
BEGIN:VTIMEZONE
TZID:America/Chicago
BEGIN:DAYLIGHT
TZOFFSETFROM:-0600
TZOFFSETTO:-0500
TZNAME:CDT
DTSTART:20230312T080000
END:DAYLIGHT
BEGIN:STANDARD
TZOFFSETFROM:-0500
TZOFFSETTO:-0600
TZNAME:CST
DTSTART:20231105T070000
END:STANDARD
BEGIN:DAYLIGHT
TZOFFSETFROM:-0600
TZOFFSETTO:-0500
TZNAME:CDT
DTSTART:20240310T080000
END:DAYLIGHT
BEGIN:STANDARD
TZOFFSETFROM:-0500
TZOFFSETTO:-0600
TZNAME:CST
DTSTART:20241103T070000
END:STANDARD
BEGIN:DAYLIGHT
TZOFFSETFROM:-0600
TZOFFSETTO:-0500
TZNAME:CDT
DTSTART:20250309T080000
END:DAYLIGHT
BEGIN:STANDARD
TZOFFSETFROM:-0500
TZOFFSETTO:-0600
TZNAME:CST
DTSTART:20251102T070000
END:STANDARD
END:VTIMEZONE
BEGIN:VEVENT
DTSTART;VALUE=DATE:20240110
DTEND;VALUE=DATE:20240113
DTSTAMP:20260421T184730
CREATED:20231130T023249Z
LAST-MODIFIED:20240121T232333Z
UID:424632-1704844800-1705103999@ttaweb.com
SUMMARY:Florida Career Pathways Symposium
DESCRIPTION:  \nEmbark on a transformative journey at the Florida Career Pathways Network (FCPN) Symposium\, where a vibrant community of educators\, employers\, and workforce development partners converges to revolutionize Career Pathways\, Career & Technical Education\, and other crucial education reform initiatives. The FCPN offers invaluable assistance to its members in the strategic planning\, seamless implementation\, rigorous evaluation\, and continuous improvement of secondary\, post-secondary\, and adult transition programs. This symposium is not just an event; it’s a collaborative powerhouse where the resources of the state’s leading practitioners are pooled\, creating an extensive network of communication and shared resources that support new and existing programs. \nAt the FCPN Symposium\, the ethos of collaboration\, communication\, and education for College and Career Readiness takes center stage. Participants are invited to immerse themselves in a dynamic environment\, exchanging insights\, best practices\, and success stories with like-minded professionals committed to advancing career readiness. Elevate your expertise through engaging sessions that delve into the intricacies of educational program development\, ensuring that you leave with a refined skill set and a fresh perspective on the evolving landscape of career development. By registering for this symposium\, you gain exclusive access to a wealth of resources and the opportunity to connect with industry leaders\, fostering relationships that will propel both your career and educational initiatives to new heights. Don’t miss out on this unparalleled opportunity to be at the forefront of educational innovation—register now for the FCPN Symposium and become a driving force in shaping the future of College and Career Readiness! 
URL:https://ttaweb.com/event/florida-career-pathways-symposium/
LOCATION:Hutchinson Shores Resort and Spa\, 3793 NE Ocean Blvd.\, Jensen Beach\,\, FL\, 34957\, United States
CATEGORIES:Events
ATTACH;FMTTYPE=image/jpeg:https://ttaweb.com/wp-content/uploads/2023/11/FCPN-Logo-e1702232203744.jpeg
ORGANIZER;CN="Florida Association for Career and Technical Organization":MAILTO:lboyd@facte.org
END:VEVENT
END:VCALENDAR