BEGIN:VCALENDAR
VERSION:2.0
PRODID:-//Technical Training Aids - ECPv6.15.18//NONSGML v1.0//EN
CALSCALE:GREGORIAN
METHOD:PUBLISH
X-ORIGINAL-URL:https://ttaweb.com
X-WR-CALDESC:Events for Technical Training Aids
REFRESH-INTERVAL;VALUE=DURATION:PT1H
X-Robots-Tag:noindex
X-PUBLISHED-TTL:PT1H
BEGIN:VTIMEZONE
TZID:America/Chicago
BEGIN:DAYLIGHT
TZOFFSETFROM:-0600
TZOFFSETTO:-0500
TZNAME:CDT
DTSTART:20240310T080000
END:DAYLIGHT
BEGIN:STANDARD
TZOFFSETFROM:-0500
TZOFFSETTO:-0600
TZNAME:CST
DTSTART:20241103T070000
END:STANDARD
BEGIN:DAYLIGHT
TZOFFSETFROM:-0600
TZOFFSETTO:-0500
TZNAME:CDT
DTSTART:20250309T080000
END:DAYLIGHT
BEGIN:STANDARD
TZOFFSETFROM:-0500
TZOFFSETTO:-0600
TZNAME:CST
DTSTART:20251102T070000
END:STANDARD
BEGIN:DAYLIGHT
TZOFFSETFROM:-0600
TZOFFSETTO:-0500
TZNAME:CDT
DTSTART:20260308T080000
END:DAYLIGHT
BEGIN:STANDARD
TZOFFSETFROM:-0500
TZOFFSETTO:-0600
TZNAME:CST
DTSTART:20261101T070000
END:STANDARD
END:VTIMEZONE
BEGIN:VEVENT
DTSTART;VALUE=DATE:20250727
DTEND;VALUE=DATE:20250731
DTSTAMP:20260422T023826
CREATED:20250721T115147Z
LAST-MODIFIED:20250721T121653Z
UID:8002647-1753574400-1753919999@ttaweb.com
SUMMARY:Economic Development Association of Alabama (EDAA) Summer Conference
DESCRIPTION:Join us for the 2025 EDAA Summer Conference at the Grand Hotel Golf Resort & Spa from July 27–30 for an unparalleled opportunity to engage with Alabama’s top economic development leaders. This year’s agenda features high-impact conversations with key figures such as Ellen McNair\, Secretary of Commerce\, and Kenneth Boswell\, Director of ADECA\, offering insider insights into the state’s growth strategy. Attendees will enjoy valuable programming including updates from AIDT\, EDPA\, and legislative panels\, along with forward-looking sessions on AI best practices and commercial development. The conference blends professional development with relaxed networking\, from the Young Professionals Pickleball Tournament to a lively Casino Night and poolside meetups. Families are welcome too\, with activities like Children’s Bingo ensuring everyone has a memorable experience. With prestigious sponsors such as TVA\, Regions\, and Energy Southeast\, this event brings together public and private sector champions to shape Alabama’s economic future. Whether you’re an established professional or new to the field\, this is your chance to learn\, connect\, and be inspired. Don’t miss the opportunity to advance your impact and celebrate progress at one of the most anticipated events of the year. \nFor more information\, check out this flyer.
URL:https://ttaweb.com/event/economic-development-association-of-alabama-edaa-summer-conference/
LOCATION:Grand Hotel Golf Resort & Spa\, One Grand Blvd\, Point Clear\, AL\, 36564\, United States
CATEGORIES:Events
ATTACH;FMTTYPE=image/jpeg:https://ttaweb.com/wp-content/uploads/2025/07/EDAA-thumb-e1753098619234.jpg
ORGANIZER;CN="Economic Development Association of Alabama":MAILTO:sheri@edaa.org
END:VEVENT
END:VCALENDAR