BEGIN:VCALENDAR
VERSION:2.0
PRODID:-//Technical Training Aids - ECPv6.15.18//NONSGML v1.0//EN
CALSCALE:GREGORIAN
METHOD:PUBLISH
X-WR-CALNAME:Technical Training Aids
X-ORIGINAL-URL:https://ttaweb.com
X-WR-CALDESC:Events for Technical Training Aids
REFRESH-INTERVAL;VALUE=DURATION:PT1H
X-Robots-Tag:noindex
X-PUBLISHED-TTL:PT1H
BEGIN:VTIMEZONE
TZID:America/Chicago
BEGIN:DAYLIGHT
TZOFFSETFROM:-0600
TZOFFSETTO:-0500
TZNAME:CDT
DTSTART:20220313T080000
END:DAYLIGHT
BEGIN:STANDARD
TZOFFSETFROM:-0500
TZOFFSETTO:-0600
TZNAME:CST
DTSTART:20221106T070000
END:STANDARD
BEGIN:DAYLIGHT
TZOFFSETFROM:-0600
TZOFFSETTO:-0500
TZNAME:CDT
DTSTART:20230312T080000
END:DAYLIGHT
BEGIN:STANDARD
TZOFFSETFROM:-0500
TZOFFSETTO:-0600
TZNAME:CST
DTSTART:20231105T070000
END:STANDARD
BEGIN:DAYLIGHT
TZOFFSETFROM:-0600
TZOFFSETTO:-0500
TZNAME:CDT
DTSTART:20240310T080000
END:DAYLIGHT
BEGIN:STANDARD
TZOFFSETFROM:-0500
TZOFFSETTO:-0600
TZNAME:CST
DTSTART:20241103T070000
END:STANDARD
END:VTIMEZONE
BEGIN:VEVENT
DTSTART;VALUE=DATE:20230804
DTEND;VALUE=DATE:20230807
DTSTAMP:20260422T171453
CREATED:20230629T211843Z
LAST-MODIFIED:20230706T182549Z
UID:6145-1691107200-1691366399@ttaweb.com
SUMMARY:Association of Veterinary Technician Educators Conference
DESCRIPTION:  \nJoin us\, August 4-6 in California’s beautiful Coachella Valley at the Westin Rancho Mirage for three days of education\, networking\, and recharging your batteries before starting a new school year in the Fall. It’s sure to be an amazing time – take advantage of early bird registration fees and discounted room rates while they are available. \nReserve Your Room \nLearn More & Register
URL:https://ttaweb.com/event/avte-conference/
LOCATION:Westin Rancho Mirage\, 71333 Dinah Shore Dr.\, Rancho Mirage\, CA\, 92270\, United States
CATEGORIES:Events
ATTACH;FMTTYPE=image/jpeg:https://ttaweb.com/wp-content/uploads/2023/06/AVTE-2023-Banner-Image-e1688667918605.jpg
ORGANIZER;CN="Association of Veterinary Technician Educators (AVTE)":MAILTO:info@avte.net
END:VEVENT
END:VCALENDAR