BEGIN:VCALENDAR
VERSION:2.0
PRODID:-//Technical Training Aids - ECPv6.15.18//NONSGML v1.0//EN
CALSCALE:GREGORIAN
METHOD:PUBLISH
X-WR-CALNAME:Technical Training Aids
X-ORIGINAL-URL:https://ttaweb.com
X-WR-CALDESC:Events for Technical Training Aids
REFRESH-INTERVAL;VALUE=DURATION:PT1H
X-Robots-Tag:noindex
X-PUBLISHED-TTL:PT1H
BEGIN:VTIMEZONE
TZID:America/Chicago
BEGIN:DAYLIGHT
TZOFFSETFROM:-0600
TZOFFSETTO:-0500
TZNAME:CDT
DTSTART:20180311T080000
END:DAYLIGHT
BEGIN:STANDARD
TZOFFSETFROM:-0500
TZOFFSETTO:-0600
TZNAME:CST
DTSTART:20181104T070000
END:STANDARD
BEGIN:DAYLIGHT
TZOFFSETFROM:-0600
TZOFFSETTO:-0500
TZNAME:CDT
DTSTART:20190310T080000
END:DAYLIGHT
BEGIN:STANDARD
TZOFFSETFROM:-0500
TZOFFSETTO:-0600
TZNAME:CST
DTSTART:20191103T070000
END:STANDARD
BEGIN:DAYLIGHT
TZOFFSETFROM:-0600
TZOFFSETTO:-0500
TZNAME:CDT
DTSTART:20200308T080000
END:DAYLIGHT
BEGIN:STANDARD
TZOFFSETFROM:-0500
TZOFFSETTO:-0600
TZNAME:CST
DTSTART:20201101T070000
END:STANDARD
END:VTIMEZONE
BEGIN:VEVENT
DTSTART;VALUE=DATE:20190321
DTEND;VALUE=DATE:20190324
DTSTAMP:20260420T155458
CREATED:20190304T193637Z
LAST-MODIFIED:20190304T193637Z
UID:4110-1553126400-1553385599@ttaweb.com
SUMMARY:Skills USA Georgia 2019
DESCRIPTION:The SkillsUSA Championships are competitive events showcasing the best career and technical education students. The philosophy of the Championships is to reward students for excellence\, to involve industry in directly evaluating student performance and to keep training relevant to employers’ needs. \nEach school is allowed one contestant/team per event. Access to the SkillsUSA Championships Technical Standards\, which contain official contest rules\, is available to professional members. View the national and state contest descriptions for overviews of all contests. Contestants should check the national contest updates page for the latest updates. Any variations to national technical standards required at our regional and state conferences due to time or limited resources will be posted to state or regional contest updates pages.
URL:https://ttaweb.com/event/skills-usa-georgia-2019/
LOCATION:Georgia International Convention Center\, 2000 Convention Center Concourse\, College Park\, GA\, 30337\, United States
CATEGORIES:Events
GEO:33.6455289;-84.4585789
X-APPLE-STRUCTURED-LOCATION;VALUE=URI;X-ADDRESS=Georgia International Convention Center 2000 Convention Center Concourse College Park GA 30337 United States;X-APPLE-RADIUS=500;X-TITLE=2000 Convention Center Concourse:geo:-84.4585789,33.6455289
END:VEVENT
BEGIN:VEVENT
DTSTART;VALUE=DATE:20190331
DTEND;VALUE=DATE:20190404
DTSTAMP:20260420T155458
CREATED:20190304T191923Z
LAST-MODIFIED:20190304T193247Z
UID:4102-1553990400-1554335999@ttaweb.com
SUMMARY:Skills USA Tennessee 2019
DESCRIPTION:The SkillsUSA Championships are competitive events showcasing the best career and technical education students. The philosophy of the Championships is to reward students for excellence\, to involve industry in directly evaluating student performance and to keep training relevant to employers’ needs. \nEach school is allowed one contestant/team per event. Access to the SkillsUSA Championships Technical Standards\, which contain official contest rules\, is available to professional members. View the national and state contest descriptions for overviews of all contests. Contestants should check the national contest updates page for the latest updates. Any variations to national technical standards required at our regional and state conferences due to time or limited resources will be posted to state or regional contest updates pages.
URL:https://ttaweb.com/event/skills-usa-tennessee-2019/
LOCATION:Chattanooga Convention Center\, 1150 Carter Street\, Chattanooga\, TN\, 37402\, United States
END:VEVENT
END:VCALENDAR