BEGIN:VCALENDAR
VERSION:2.0
PRODID:-//Technical Training Aids - ECPv6.15.18//NONSGML v1.0//EN
CALSCALE:GREGORIAN
METHOD:PUBLISH
X-WR-CALNAME:Technical Training Aids
X-ORIGINAL-URL:https://ttaweb.com
X-WR-CALDESC:Events for Technical Training Aids
REFRESH-INTERVAL;VALUE=DURATION:PT1H
X-Robots-Tag:noindex
X-PUBLISHED-TTL:PT1H
BEGIN:VTIMEZONE
TZID:America/Chicago
BEGIN:DAYLIGHT
TZOFFSETFROM:-0600
TZOFFSETTO:-0500
TZNAME:CDT
DTSTART:20150308T080000
END:DAYLIGHT
BEGIN:STANDARD
TZOFFSETFROM:-0500
TZOFFSETTO:-0600
TZNAME:CST
DTSTART:20151101T070000
END:STANDARD
BEGIN:DAYLIGHT
TZOFFSETFROM:-0600
TZOFFSETTO:-0500
TZNAME:CDT
DTSTART:20160313T080000
END:DAYLIGHT
BEGIN:STANDARD
TZOFFSETFROM:-0500
TZOFFSETTO:-0600
TZNAME:CST
DTSTART:20161106T070000
END:STANDARD
BEGIN:DAYLIGHT
TZOFFSETFROM:-0600
TZOFFSETTO:-0500
TZNAME:CDT
DTSTART:20170312T080000
END:DAYLIGHT
BEGIN:STANDARD
TZOFFSETFROM:-0500
TZOFFSETTO:-0600
TZNAME:CST
DTSTART:20171105T070000
END:STANDARD
END:VTIMEZONE
BEGIN:VTIMEZONE
TZID:UTC
BEGIN:STANDARD
TZOFFSETFROM:+0000
TZOFFSETTO:+0000
TZNAME:UTC
DTSTART:20150101T000000
END:STANDARD
END:VTIMEZONE
BEGIN:VEVENT
DTSTART;VALUE=DATE:20160626
DTEND;VALUE=DATE:20160630
DTSTAMP:20260421T113827
CREATED:20160516T211837Z
LAST-MODIFIED:20160523T141233Z
UID:1211-1466899200-1467244799@ttaweb.com
SUMMARY:SC Education and Business Summit
DESCRIPTION:Technical Training Aids representative\, Fred Langley\, will have a booth at the Summit – be sure to stop by and check out the many products he will have on display and talk with him about your classroom training solutions! \nMake plans to be at the 2016 South Carolina Education and Business Summit at the TD Convention Center in Greenville\, SC\, June 26-29!  This year’s theme is “Connecting Education to Careers: Be the Bridge.”  This will be the seventeenth annual Education and Business Summit\, created by combining two previously successful and well-attended conferences – the Summer Conference of South Carolina Association for Career and Technical Education and the Tech Prep Conference hosted by the South Carolina Department of Education.  Click to find out about registration and see the “Schedule at a Glance.”  In addition to the many vendor exhibits and keynote speakers\, Educators in Industry Courses are offered at no additional cost to registered participants\, and the professional development activities at the Education and Business Summit are approved to award continuing education unit (CEU) credit (find out more)!
URL:https://ttaweb.com/event/scacte-education-business-summit/
LOCATION:TD Convention Center\, 1 Exposition Drive\, Greenville\, SC\, 29607\, United States
ATTACH;FMTTYPE=image/png:https://ttaweb.com/wp-content/uploads/2016/05/SC-EduAndBus-Summit-Logo2.png
GEO:34.852042;-82.354571
X-APPLE-STRUCTURED-LOCATION;VALUE=URI;X-ADDRESS=TD Convention Center 1 Exposition Drive Greenville SC 29607 United States;X-APPLE-RADIUS=500;X-TITLE=1 Exposition Drive:geo:-82.354571,34.852042
END:VEVENT
BEGIN:VEVENT
DTSTART;TZID=America/Chicago:20160616T140000
DTEND;TZID=America/Chicago:20160616T150000
DTSTAMP:20260421T113827
CREATED:20160614T194852Z
LAST-MODIFIED:20160614T200750Z
UID:1378-1466085600-1466089200@ttaweb.com
SUMMARY:Live Webinar: 3D Printing Across a Middle School Curriculum
DESCRIPTION:Don’t miss the 1 hour Stratasys webinar on “3D Printing Across a Middle School Curriculum\,” happening live online this Thursday\, June 16\, at 2:00pm Eastern.  Registration is required to join this event\, though there is no cost to attend the webinar – click here to register now! \nPanelist Info: \nLuke Podmers \nMultimedia Tech/Engineering Technology \nValley Middle School of STEM \nISD 196\, Apple Valley\, Minnesota \n  \nBrian Martin \nMultimedia Tech Teacher \nValley Middle School of STEM \nISD 196\, Apple Valley\, Minnesota \n  \nGina Scala \nDirector of Marketing\, Global Education \nStratasys
URL:https://ttaweb.com/event/live-webinar-3d-printing-across-middle-school-curriculum/
ATTACH;FMTTYPE=image/jpeg:https://ttaweb.com/wp-content/uploads/2016/06/UB-and-DA-logo2.jpg
END:VEVENT
BEGIN:VEVENT
DTSTART;TZID=America/Chicago:20160615T093000
DTEND;TZID=America/Chicago:20160616T153000
DTSTAMP:20260421T113827
CREATED:20160516T204858Z
LAST-MODIFIED:20160729T134155Z
UID:1199-1465983000-1466091000@ttaweb.com
SUMMARY:Southeast Design-2-Part Show
DESCRIPTION:Visit our sales rep\, Rob Alge\, in the Technical Training Aids Booth – #218!\nInterested in 3D Printing? Let our experienced team show you how to save time and money in your rapid prototyping needs with the full range of Stratasys 3D Printers and services. We can help you print functional\, durable 3D models of your most intricate product designs\, directly from your 3D CAD files. Stop by to see the difference professional grade solutions can make.
URL:https://ttaweb.com/event/southeast-design-2-part-show-2/
LOCATION:Raleigh Convention Center\, 500 South Salisbury Street\, Raleigh\, 27601\, United States
CATEGORIES:Events
ATTACH;FMTTYPE=image/png:https://ttaweb.com/wp-content/uploads/2016/05/RedDateBall_NC16.png
GEO:35.7736464;-78.6413496
X-APPLE-STRUCTURED-LOCATION;VALUE=URI;X-ADDRESS=Raleigh Convention Center 500 South Salisbury Street Raleigh 27601 United States;X-APPLE-RADIUS=500;X-TITLE=500 South Salisbury Street:geo:-78.6413496,35.7736464
END:VEVENT
BEGIN:VEVENT
DTSTART;TZID=America/Chicago:20160516T083000
DTEND;TZID=America/Chicago:20160519T140000
DTSTAMP:20260421T113827
CREATED:20160510T200245Z
LAST-MODIFIED:20160511T142940Z
UID:1185-1463387400-1463666400@ttaweb.com
SUMMARY:RAPID – 3D Technology Event
DESCRIPTION:Experienced and knowledgeable in the advanced manufacturing field\, Scott Weller and Vince Denino – our Florida-area Technical Training Aids sales reps – will be on site and available to meet with you to discuss products\, questions and ideas!  Email Scott or Vince today to setup a personal meeting time.\nUse this code when you register online and save $75: 11891235\nThe world-renowned RAPID event is the culmination of 26 years of expertise in creating the most exciting additive manufacturing event in North America. At RAPID\, you’ll find the most experienced and influential community in 3D technology. Attendees will have the opportunity to engage with more than 200 exhibitors and explore the future of the industry through interactive experiences\, keynotes\, and conference presentations from industry leaders. \nThe level of cutting-edge 3D innovation at RAPID is unparalleled\, as well as the breadth and depth of additive expertise across all industries. This is an extraordinary opportunity to experience the newest 3D products\, technologies\, and materials and do a side-by-side comparison to find your best fit. This is your event to explore the unlimited possibilities of how 3D technology can advance your business. \nThe RAPID conference is known worldwide as the unrivaled authority on 3D knowledge and expertise. The world’s foremost additive manufacturing experts speak on groundbreaking processes\, applications\, materials\, and research in additive manufacturing. \nThe RAPID show floor is a visual\, creativity-inspiring\, hands-on learning playground. The exposition includes OEMs\, service bureaus\, and related technology consultants and partners.
URL:https://ttaweb.com/event/rapid-3d-technology-event/
LOCATION:Orange County Convention Center\, 9800 International Dr\, Orlando\, FL\, 32819\, United States
ATTACH;FMTTYPE=image/png:https://ttaweb.com/wp-content/uploads/2016/05/rapid-logo-100.png
GEO:28.4247439;-81.4693192
X-APPLE-STRUCTURED-LOCATION;VALUE=URI;X-ADDRESS=Orange County Convention Center 9800 International Dr Orlando FL 32819 United States;X-APPLE-RADIUS=500;X-TITLE=9800 International Dr:geo:-81.4693192,28.4247439
END:VEVENT
BEGIN:VEVENT
DTSTART;TZID=America/Chicago:20160511T083000
DTEND;TZID=America/Chicago:20160511T160000
DTSTAMP:20260421T113827
CREATED:20160422T212518Z
LAST-MODIFIED:20160525T193151Z
UID:1106-1462955400-1462982400@ttaweb.com
SUMMARY:Additive Manufacturing Workshop at Joe Gibbs Racing
DESCRIPTION:Technical Training Aids and partner\, Prototyping Solutions\, are hosting a workshop at the Joe Gibbs Racing facility in Huntersville\, NC\, on May 11th from 8:30am – 4:00 pm (EDT). \nThis hands-on workshop will include presentations from representatives of Artec 3D Scanners\, DezignWorks software\, and Stratasys and will cover topics ranging from the entire design-to-print process (3d scanning\, conversion of drawings to print files\, and 3D printing) to new printer and software releases from Stratasys and will even include information on educational curriculum\, SkillsUSA and other contests where local students can show off their skills.  Additive manufacturing uses\, applications\, and successful real-life examples will be discussed from various industries and the event will conclude with a tour of the Joe Gibbs facility.  People from all industries and backgrounds\, including educators\, are encouraged to register and there is no cost to attend.  Those who pre-register will even be provided with complimentary lunch from Groucho’s Deli during the workshop!  Groucho’s Deli is owned by the Gibb’s family and gives 100% of the deli’s profits to charity – click here to read more about this charitable venture. \nClick below to register and secure your complimentary lunch* from Groucho’s Deli!   \n \n*Complimentary lunch will be provided by Technical Training Aids and Prototyping Solutions for pre-registered attendees only
URL:https://ttaweb.com/event/additive-manufacturing-workshop-joe-gibbs-racing/
LOCATION:Joe Gibbs Racing – Auditorium\, 13415 Reese Blvd West\, Huntersville\, NC\, 28078\, United States
CATEGORIES:Workshops
ATTACH;FMTTYPE=image/png:https://ttaweb.com/wp-content/uploads/2016/04/25thLogo-FINAL-website.png
ORGANIZER;CN="Rob Alge":MAILTO:rob@ttaweb.com
GEO:35.396436;-80.8653
X-APPLE-STRUCTURED-LOCATION;VALUE=URI;X-ADDRESS=Joe Gibbs Racing – Auditorium 13415 Reese Blvd West Huntersville NC 28078 United States;X-APPLE-RADIUS=500;X-TITLE=13415 Reese Blvd West:geo:-80.8653,35.396436
END:VEVENT
BEGIN:VEVENT
DTSTART;TZID=America/Chicago:20160423T090000
DTEND;TZID=America/Chicago:20160423T170000
DTSTAMP:20260421T113827
CREATED:20160323T145454Z
LAST-MODIFIED:20160729T134429Z
UID:972-1461402000-1461430800@ttaweb.com
SUMMARY:GreenpowerUSA Whitesburg Invitational Races
DESCRIPTION:Technical Training Aids and Huntsville City Schools invite you to join us for the Whitesburg Invitational Race on Saturday\, April 23rd\, at Whitesburg School in Huntsville\, Alabama.  Bring the family and come check out the “fastest” STEM event around! \nMeet the next generation of STEM leaders participating in the Greenpower ChallengeTM as they showcase their electric vehicles which they have designed\, built\, and will race themselves in the second running of GreenpowerUSA to be held at Whitesburg school.  The highly successful Greenpower ChallengeTM uses the excitement of motorsport to inspire students from primary school through to university to excel in Science\, Technology\, Engineering and Math (STEM) studies. \nWhile you are there\, be sure and stop by and see the Huntsville City Schools’ Team USA electric racecar\, to be sponsored in part by Technical Training Aids and Stratasys\, which competes at international Greenpower races (though it will not be racing at the Whitesburg Invitational). \nRace events will begin at 9 a.m. CST and will conclude a 5 p.m. CST.  A complete race day schedule can be accessed at http://www.greenpowerusa.net/Competition/Race-Day.  See you at the races!
URL:https://ttaweb.com/event/greenpowerusawhitesburg-invitational-races/
LOCATION:Whitesburg P-8 School\, 107 Sanders Road\, Huntsville\, AL\, 35802\, United States
CATEGORIES:Events
ATTACH;FMTTYPE=image/jpeg:https://ttaweb.com/wp-content/uploads/2016/03/eventFeaturedImage.jpg
ORGANIZER;CN="GreenpowerUSA Foundation":MAILTO:greenpower.office@hsv-k12.org
GEO:34.6738047;-86.5705059
X-APPLE-STRUCTURED-LOCATION;VALUE=URI;X-ADDRESS=Whitesburg P-8 School 107 Sanders Road Huntsville AL 35802 United States;X-APPLE-RADIUS=500;X-TITLE=107 Sanders Road:geo:-86.5705059,34.6738047
END:VEVENT
BEGIN:VEVENT
DTSTART;VALUE=DATE:20160413
DTEND;VALUE=DATE:20160416
DTSTAMP:20260421T113827
CREATED:20160331T193045Z
LAST-MODIFIED:20160331T193045Z
UID:1007-1460505600-1460764799@ttaweb.com
SUMMARY:LCTCS Annual Conference
DESCRIPTION:The Louisiana Community & Technical College System (LCTCS) Professional Development conference is the premier event for Louisiana’s Community and Technical Colleges\, annually attracting over 1\,500 faculty\, staff\, and administrative leaders. The conference serves the scholars\, teachers\, and practitioners of our system and supports their professional development and interests in teaching\, learning\, and technology. \n 
URL:https://ttaweb.com/event/lctcs-annual-conference/
LOCATION:Baton Rouge Civic Center\, 275 South River Road\, Baton Rouge\, LA\, 70802\, United States
ATTACH;FMTTYPE=image/png:https://ttaweb.com/wp-content/uploads/2016/03/untitled.png
ORGANIZER;CN="Louisiana Community & Technical College System (Jennifer Daly)":MAILTO:jenniferdaly@lctcs.edu
GEO:30.4454873;-91.1900389
X-APPLE-STRUCTURED-LOCATION;VALUE=URI;X-ADDRESS=Baton Rouge Civic Center 275 South River Road Baton Rouge LA 70802 United States;X-APPLE-RADIUS=500;X-TITLE=275 South River Road:geo:-91.1900389,30.4454873
END:VEVENT
BEGIN:VEVENT
DTSTART;VALUE=DATE:20160403
DTEND;VALUE=DATE:20160408
DTSTAMP:20260421T113827
CREATED:20160225T023137Z
LAST-MODIFIED:20160323T153206Z
UID:711-1459641600-1460073599@ttaweb.com
SUMMARY:2016 Annual Additive Manufacturing Users Group Conference
DESCRIPTION:AMUG educates and advances the uses and applications of additive manufacturing technologies. \nAMUG is an independent\, industry-wide users group that gives its members a forum for learning\, information exchange and establishing professional connections. No matter what additive manufacturing technology you use\, AMUG is here to assist you in getting the most from the technology and achieving all that is possible. \nAs a member\, you have access to a wealth of knowledge and experience. Build from it to optimize operations\, overcome challenges and avoid potential problems. \nHow do we do all that? We bring together our members at the annual conference. Our members exchange ideas and experiences in technical sessions\, workshops and casual conversations. Once there\, you will find the event to be open\, inviting and friendly. So\, mark your calendars — April 3 – 7\, 2016\, St. Louis\, Missouri. \nDon’t delay – online registration closes March 27th and early bird discounts are available!
URL:https://ttaweb.com/event/2016-annual-additive-manufacturing-users-group-conference/
LOCATION:St. Louis Union Station\, 1820 Market Street\, St. Louis\, MO\, 63103\, United States
ATTACH;FMTTYPE=image/jpeg:https://ttaweb.com/wp-content/uploads/2016/02/TTA_AMUG_social3-e1458065972626.jpg
ORGANIZER;CN="Additive Manufacturing Users Group - Vince Anewenter%2C treasurer":MAILTO:treasurer@am-ug.com
GEO:38.6281256;-90.2080362
X-APPLE-STRUCTURED-LOCATION;VALUE=URI;X-ADDRESS=St. Louis Union Station 1820 Market Street St. Louis MO 63103 United States;X-APPLE-RADIUS=500;X-TITLE=1820 Market Street:geo:-90.2080362,38.6281256
END:VEVENT
BEGIN:VEVENT
DTSTART;TZID=America/Chicago:20160331T080000
DTEND;TZID=America/Chicago:20160401T170000
DTSTAMP:20260421T113827
CREATED:20160316T154504Z
LAST-MODIFIED:20160316T154504Z
UID:909-1459411200-1459530000@ttaweb.com
SUMMARY:Spring Forum on Engineering Technology - Florida
DESCRIPTION:The Florida Forum on Engineering Technology (E.T. Forum) is an important vehicle to bring together the diverse and geographically dispersed colleges with common issues and challenges. The Forum is a semiannual 2-day meeting of community college engineering technologies faculty in Florida. FLATE utilizes the Forum to strengthen its Technology Consortium; share its activities and projects; provide professional development; bring industry and academics together; engage faculty and administrators in statewide curriculum reform; and keep in touch with new and ongoing college program issues and concerns.
URL:https://ttaweb.com/event/spring-florida-forum-engineering-technology/
LOCATION:Lake Sumter State College\, 1405 County Road 526A\, Sumterville\, FL\, 33585\, United States
ATTACH;FMTTYPE=image/jpeg:https://ttaweb.com/wp-content/uploads/2016/03/ET-logo.jpg
GEO:28.735937;-82.0606526
X-APPLE-STRUCTURED-LOCATION;VALUE=URI;X-ADDRESS=Lake Sumter State College 1405 County Road 526A Sumterville FL 33585 United States;X-APPLE-RADIUS=500;X-TITLE=1405 County Road 526A:geo:-82.0606526,28.735937
END:VEVENT
BEGIN:VEVENT
DTSTART;TZID=America/Chicago:20160330T093000
DTEND;TZID=America/Chicago:20160331T150000
DTSTAMP:20260421T113827
CREATED:20160322T140759Z
LAST-MODIFIED:20160322T141022Z
UID:957-1459330200-1459436400@ttaweb.com
SUMMARY:Southeast Design-2-Part Show
DESCRIPTION:Join us at Booth 310 the D2P Show!\nInterested in 3D Printing? Let our experienced team show you how to save time and money in your rapid prototyping needs with the full range of Stratasys 3D Printers and services. We can help you print functional\, durable 3D models of your most intricate product designs\, directly from your 3D CAD files. Stop by to see the difference professional grade solutions can make.
URL:https://ttaweb.com/event/southeast-design-2-part-show/
LOCATION:Cobb Galleria Center\, 2 Galleria Parkway\, Atlanta\, GA\, 30339\, United States
ATTACH;FMTTYPE=image/jpeg:https://ttaweb.com/wp-content/uploads/2016/03/Untitled-e1458655507676.jpg
GEO:33.8832236;-84.4665277
X-APPLE-STRUCTURED-LOCATION;VALUE=URI;X-ADDRESS=Cobb Galleria Center 2 Galleria Parkway Atlanta GA 30339 United States;X-APPLE-RADIUS=500;X-TITLE=2 Galleria Parkway:geo:-84.4665277,33.8832236
END:VEVENT
BEGIN:VEVENT
DTSTART;TZID=America/Chicago:20160317T080000
DTEND;TZID=America/Chicago:20160319T180000
DTSTAMP:20260421T113827
CREATED:20160316T152027Z
LAST-MODIFIED:20160316T152127Z
UID:905-1458201600-1458410400@ttaweb.com
SUMMARY:SkillsUSA Georgia - State Leadership & Skills Conference
DESCRIPTION:SkillsUSA is a national\, nonprofit student organization that has developed more than 10 million workers through active partnerships between employers and educators.  Hundreds of American industries have turned to SkillsUSA as the source for employees who exemplify “Champions at Work” in both skills and attitudes.  SkillsUSA Georgia is the Career and Technical Student Organization for students enrolled in Architecture\, Construction\, Communication and Transportation (ACCT)\, Cosmetology\, and Public Safety Pathways in Georgia’s secondary schools. \nStudents compete at the annual state conference in a variety of events based on SkillsUSA’s high school programs throughout the state – Architecture\, Construction\, Communication\, Transportation\, Culinary Arts\, Personal Care Services and Public Safety. Contests are based on industry standards\, and they’re designed and judged by business partners. \n 
URL:https://ttaweb.com/event/skillsusa-georgia-state-leadership-skills-conference/
LOCATION:Georgia International Convention Center\, 2000 Convention Center Concourse\, College Park\, GA\, 30337\, United States
ATTACH;FMTTYPE=image/bmp:https://ttaweb.com/wp-content/uploads/2016/03/medalLogo-e1458141675877.bmp
GEO:33.6455289;-84.4585789
X-APPLE-STRUCTURED-LOCATION;VALUE=URI;X-ADDRESS=Georgia International Convention Center 2000 Convention Center Concourse College Park GA 30337 United States;X-APPLE-RADIUS=500;X-TITLE=2000 Convention Center Concourse:geo:-84.4585789,33.6455289
END:VEVENT
BEGIN:VEVENT
DTSTART;TZID=UTC:20160309T080000
DTEND;TZID=UTC:20160311T170000
DTSTAMP:20260421T113827
CREATED:20160305T054845Z
LAST-MODIFIED:20160316T155950Z
UID:830-1457510400-1457715600@ttaweb.com
SUMMARY:ATEA 2016 National Conference
DESCRIPTION:Technical Training Aids will be exhibiting at the American Technical Education Association 2016 National Conference in Orange Beach\, Alabama\, March 9th – 11th\, 2016. \nThe American Technical Education Association (ATEA) is an association for the postsecondary technical educator\, institution or employer of technically a educated workforce\, with emphasis on professional development. The organization is dedicated to excellence in quality of postsecondary technical education focusing on practical teaching ideas and exchange of best practices. ATEA recognizes outstanding performance and leadership and provides a network for career connectivity. \nClick the link below for more information.
URL:https://ttaweb.com/event/atea-2016-national-conference/
LOCATION:Perdido Resort\, 27200 Perdido Blvd.\, Orange Beach\, AL\, 36561\, United States
ATTACH;FMTTYPE=image/jpeg:https://ttaweb.com/wp-content/uploads/2016/03/ATEAlogo.jpg
GEO:30.2736967;-87.5614039
X-APPLE-STRUCTURED-LOCATION;VALUE=URI;X-ADDRESS=Perdido Resort 27200 Perdido Blvd. Orange Beach AL 36561 United States;X-APPLE-RADIUS=500;X-TITLE=27200 Perdido Blvd.:geo:-87.5614039,30.2736967
END:VEVENT
BEGIN:VEVENT
DTSTART;TZID=UTC:20160308T100000
DTEND;TZID=UTC:20160308T150000
DTSTAMP:20260421T113827
CREATED:20160305T054419Z
LAST-MODIFIED:20160305T055038Z
UID:828-1457431200-1457449200@ttaweb.com
SUMMARY:University of Alabama Vendor Fair
DESCRIPTION:Eddie Hanebuth of Technical Training Aids will be showcasing TTA products at the University of Alabama Vendor Fair on Tuesday\, March 8th\, from 10am to 3pm in the Ferguson Center Ballroom.  Please come out and join us and learn more about what TTA has to offer your school! \n  \n 
URL:https://ttaweb.com/event/university-of-alabama-vendor-fair/
LOCATION:University of Alabama – Ferguson Center Ballroom\, Tuscaloosa\, AL\, United States
ATTACH;FMTTYPE=image/jpeg:https://ttaweb.com/wp-content/uploads/2016/03/UofA.jpg
GEO:33.2098407;-87.5691735
END:VEVENT
BEGIN:VEVENT
DTSTART;TZID=UTC:20160226T090000
DTEND;TZID=UTC:20160226T140000
DTSTAMP:20260421T113827
CREATED:20160225T022614Z
LAST-MODIFIED:20160316T160602Z
UID:708-1456477200-1456495200@ttaweb.com
SUMMARY:One day Hands On Training with the Amatrol e-Learning System
DESCRIPTION:Technical Training Aids will be hosting a 1-day training workshop for Industrial Maintenance and Electrical Instructors. The workshop will include hands-on training with the Amatrol eLearning System and will also cover various educational standards\, including requirements by the state as well as National SKILL set standards. \n*Lunch will be provided on site. There is no registration cost for this training. \nRegistration closes on February 12th.
URL:https://ttaweb.com/event/708/
LOCATION:Blount County Career & Technical Center\, 61500 US 231\, Cleveland\, AL\, 35049\, United States
ATTACH;FMTTYPE=image/png:https://ttaweb.com/wp-content/uploads/2016/02/1442103853.png
GEO:33.9915045;-86.5617628
X-APPLE-STRUCTURED-LOCATION;VALUE=URI;X-ADDRESS=Blount County Career & Technical Center 61500 US 231 Cleveland AL 35049 United States;X-APPLE-RADIUS=500;X-TITLE=61500 US 231:geo:-86.5617628,33.9915045
END:VEVENT
END:VCALENDAR