BEGIN:VCALENDAR
VERSION:2.0
PRODID:-//Technical Training Aids - ECPv6.15.18//NONSGML v1.0//EN
CALSCALE:GREGORIAN
METHOD:PUBLISH
X-WR-CALNAME:Technical Training Aids
X-ORIGINAL-URL:https://ttaweb.com
X-WR-CALDESC:Events for Technical Training Aids
REFRESH-INTERVAL;VALUE=DURATION:PT1H
X-Robots-Tag:noindex
X-PUBLISHED-TTL:PT1H
BEGIN:VTIMEZONE
TZID:America/Chicago
BEGIN:DAYLIGHT
TZOFFSETFROM:-0600
TZOFFSETTO:-0500
TZNAME:CDT
DTSTART:20240310T080000
END:DAYLIGHT
BEGIN:STANDARD
TZOFFSETFROM:-0500
TZOFFSETTO:-0600
TZNAME:CST
DTSTART:20241103T070000
END:STANDARD
BEGIN:DAYLIGHT
TZOFFSETFROM:-0600
TZOFFSETTO:-0500
TZNAME:CDT
DTSTART:20250309T080000
END:DAYLIGHT
BEGIN:STANDARD
TZOFFSETFROM:-0500
TZOFFSETTO:-0600
TZNAME:CST
DTSTART:20251102T070000
END:STANDARD
BEGIN:DAYLIGHT
TZOFFSETFROM:-0600
TZOFFSETTO:-0500
TZNAME:CDT
DTSTART:20260308T080000
END:DAYLIGHT
BEGIN:STANDARD
TZOFFSETFROM:-0500
TZOFFSETTO:-0600
TZNAME:CST
DTSTART:20261101T070000
END:STANDARD
BEGIN:DAYLIGHT
TZOFFSETFROM:-0600
TZOFFSETTO:-0500
TZNAME:CDT
DTSTART:20270314T080000
END:DAYLIGHT
BEGIN:STANDARD
TZOFFSETFROM:-0500
TZOFFSETTO:-0600
TZNAME:CST
DTSTART:20271107T070000
END:STANDARD
END:VTIMEZONE
BEGIN:VEVENT
DTSTART;TZID=America/Chicago:20260409T103000
DTEND;TZID=America/Chicago:20260409T143000
DTSTAMP:20260422T042531
CREATED:20260331T194527Z
LAST-MODIFIED:20260407T210255Z
UID:13848803-1775730600-1775745000@ttaweb.com
SUMMARY:Experience Stratasys Tour 2026
DESCRIPTION:Once again\, Technical Training Aids and Prototyping Solutions are partnering with Stratasys to bring you the latest in manufacturing trends\n\nJoin us at one of our tour stops across the United States to see the latest in Stratasys 3D printers\, materials\, software and additive solutions\, including Stratasys printers – the H350™\, F370CR\, J55™\, Origin®\, Neo® and the new F3300™.  Explore production-ready parts across multiple industries\, test advanced materials and software\, and speak with additive manufacturing experts ready to help you solve your most critical design and production challenges. Register today to secure your spot—all events are complimentary and include hands-on access to the latest Stratasys technologies.  \n  \nDate:     Thursday\, April 9th \nPlace:    Limbitless Solutions – 12703 Research Pkwy\, #100\, Orlando \nTime:    10:30 AM – 2:30 PM \nRSVP:    Click Here \nTours:    Facility tours are available from 11:00 AM – 1:00 PM \n\nWhy Attend?\n\nMeet Stratasys engineers and production experts\nExplore real parts\, printers\, and materials\nDiscover applications across industries\nGet practical guidance for your production goals\n\n \nIf you have any questions\, feel free to contact us. We look forward to meeting you on April 9th!
URL:https://ttaweb.com/event/trends-shaping-the-future-of-the-manufacturing-industry/
LOCATION:Limbitless Solutions\, 12703 Research Pkwy\, #100\, Orlando\, FL\, 32826\, United States
CATEGORIES:Events,Mobile Showroom
ORGANIZER;CN="Prototyping Solutions":MAILTO:sales@prototypingsolutions.com
END:VEVENT
BEGIN:VEVENT
DTSTART;TZID=America/Chicago:20251119T103000
DTEND;TZID=America/Chicago:20251119T143000
DTSTAMP:20260422T042531
CREATED:20251021T163325Z
LAST-MODIFIED:20260331T211441Z
UID:9732000-1763548200-1763562600@ttaweb.com
SUMMARY:Experience Stratasys in Daytona Beach\, FL
DESCRIPTION:Join us at one of the Stratasys tour stops across the United States to see the latest in Stratasys 3D printers\, materials\, software and additive solutions\, including Stratasys printers – the H350™\, F370CR\, J55™\, Origin® One\, Neo®800 and the new F3300™.\n\n\n\n\n\n\n\n\n\n\n\nWhy Attend? \n– Engineers and Production experts will be on hand to answer all your questions\n– Parts\, parts and more parts – across all technologies and many different industries.\n– Displays showcasing our wide-ranging materials.\n– Come see how Stratasys can help you solve critical manufacturing challenges at every point along the production cycle. \n\n\n\n\nDate: \nWednesday\, November 19th \nTime: 10:30 a.m. – 2:30 p.m. \nLocation: \nEmbry-Riddle Aeronautical University – Henderson Hall / Gym Greenspace \n600 S Clyde Morris Blvd \n        Daytona Beach\, FL 32114 \n  \nHere’s a sneak peek of the Experience Stratasys Tour! \n﻿﻿\n \nRegister today to attend this mobile showroom event hosted by Technical Training Aids and Prototyping Solutions who will be on hand to answer questions and walk you through the featured Stratasys printers and applications. Feel free to come and go anytime during the open hours — whatever works best for your schedule!
URL:https://ttaweb.com/event/experience-stratasys-in-daytona-beach-fl/
LOCATION:Embry-Riddle Aeronautical University – Henderson Hall / Gym Greenspace\, 600 S Clyde Morris Blvd\, Daytona Beach\, FL\, 32114\, United States
CATEGORIES:Events,Mobile Showroom
ATTACH;FMTTYPE=image/jpeg:https://ttaweb.com/wp-content/uploads/2025/10/Stratasys-Mobile-Showroom_Still_01-1024x576-1.jpg
ORGANIZER;CN="Technical Training Aids":MAILTO:sales@ttaweb.com
END:VEVENT
BEGIN:VEVENT
DTSTART;TZID=America/Chicago:20250519T103000
DTEND;TZID=America/Chicago:20250519T140000
DTSTAMP:20260422T042531
CREATED:20250428T215059Z
LAST-MODIFIED:20251021T162932Z
UID:6606783-1747650600-1747663200@ttaweb.com
SUMMARY:Experience Stratasys in Florence\, SC
DESCRIPTION:Join us at one of the Stratasys tour stops across the United States to see the latest in Stratasys 3D printers\, materials\, software and additive solutions\, including Stratasys printers – the H350™\, F370CR\, J55™\, Origin® One\, Neo®800 and the new F3300™.\n\n\n\n\n\n\n\n\n\n\n\nWhy Attend? \n– Engineers and Production experts will be on hand to answer all your questions\n– Parts\, parts and more parts – across all technologies and many different industries.\n– Displays showcasing our wide-ranging materials.\n– Come see how Stratasys can help you solve critical manufacturing challenges at every point along the production cycle. \nRegister today to attend an event hosted by Technical Training Aids and Prototyping Solutions who will be on hand to answer questions and walk you through the featured Stratasys printers and applications. Feel free to come and go anytime during the open hours — whatever works best for your schedule. \n\n\n\n\nDate: Monday\, May 19th \nTime: 10:30 a.m. – 2:30 p.m. \nLocation: \nSiMT – Southeastern Institute of Manufacturing and Technology \nSiMT 1951\, 1951 Pisgah Rd \nFlorence. SC 29501 \n  \n  \nHere’s a sneak peek of the Experience Stratasys Tour! \n﻿﻿\n \nRegister today to attend an event hosted by our local 3D printing teams who will be on hand to answer questions and walk you through the featured Stratasys printers and applications. Feel free to come and go anytime during the open hours — whatever works best for your schedule.
URL:https://ttaweb.com/event/experience-stratasys-in-florence-sc/
LOCATION:SiMT – Southeastern Institute of Manufacturing and Technology\, SiMT 1951\, 1951 Pisgah Rd\, Florence\, SC\, 29501\, United States
CATEGORIES:Events,Mobile Showroom
END:VEVENT
END:VCALENDAR