BEGIN:VCALENDAR
VERSION:2.0
PRODID:-//Technical Training Aids - ECPv6.15.18//NONSGML v1.0//EN
CALSCALE:GREGORIAN
METHOD:PUBLISH
X-ORIGINAL-URL:https://ttaweb.com
X-WR-CALDESC:Events for Technical Training Aids
REFRESH-INTERVAL;VALUE=DURATION:PT1H
X-Robots-Tag:noindex
X-PUBLISHED-TTL:PT1H
BEGIN:VTIMEZONE
TZID:America/Chicago
BEGIN:DAYLIGHT
TZOFFSETFROM:-0600
TZOFFSETTO:-0500
TZNAME:CDT
DTSTART:20190310T080000
END:DAYLIGHT
BEGIN:STANDARD
TZOFFSETFROM:-0500
TZOFFSETTO:-0600
TZNAME:CST
DTSTART:20191103T070000
END:STANDARD
BEGIN:DAYLIGHT
TZOFFSETFROM:-0600
TZOFFSETTO:-0500
TZNAME:CDT
DTSTART:20200308T080000
END:DAYLIGHT
BEGIN:STANDARD
TZOFFSETFROM:-0500
TZOFFSETTO:-0600
TZNAME:CST
DTSTART:20201101T070000
END:STANDARD
BEGIN:DAYLIGHT
TZOFFSETFROM:-0600
TZOFFSETTO:-0500
TZNAME:CDT
DTSTART:20210314T080000
END:DAYLIGHT
BEGIN:STANDARD
TZOFFSETFROM:-0500
TZOFFSETTO:-0600
TZNAME:CST
DTSTART:20211107T070000
END:STANDARD
END:VTIMEZONE
BEGIN:VEVENT
DTSTART;TZID=America/Chicago:20200428T140000
DTEND;TZID=America/Chicago:20200428T143000
DTSTAMP:20260421T104654
CREATED:20200427T190444Z
LAST-MODIFIED:20200427T190801Z
UID:4596-1588082400-1588084200@ttaweb.com
SUMMARY:Webinar: MakerBot Method Materials Applications
DESCRIPTION:MakerBot has developed and tuned 8 official materials\, as well as partnered with leading material suppliers to expand our offering with MakerBot LABS. In this webinar we will review each of these materials including: \n\nCommon Applications\nKey Material Properties\nAdvantages to Printing on METHOD\n\n \nJoin us for this free webinar on Tuesday\, 4/28 at 2pm CST.
URL:https://ttaweb.com/event/webinar-makerbot-method-materials-applications/
LOCATION:Online
CATEGORIES:Events,Webinar
END:VEVENT
END:VCALENDAR