BEGIN:VCALENDAR
VERSION:2.0
PRODID:-//Technical Training Aids - ECPv6.15.18//NONSGML v1.0//EN
CALSCALE:GREGORIAN
METHOD:PUBLISH
X-ORIGINAL-URL:https://ttaweb.com
X-WR-CALDESC:Events for Technical Training Aids
REFRESH-INTERVAL;VALUE=DURATION:PT1H
X-Robots-Tag:noindex
X-PUBLISHED-TTL:PT1H
BEGIN:VTIMEZONE
TZID:America/Chicago
BEGIN:DAYLIGHT
TZOFFSETFROM:-0600
TZOFFSETTO:-0500
TZNAME:CDT
DTSTART:20170312T080000
END:DAYLIGHT
BEGIN:STANDARD
TZOFFSETFROM:-0500
TZOFFSETTO:-0600
TZNAME:CST
DTSTART:20171105T070000
END:STANDARD
BEGIN:DAYLIGHT
TZOFFSETFROM:-0600
TZOFFSETTO:-0500
TZNAME:CDT
DTSTART:20180311T080000
END:DAYLIGHT
BEGIN:STANDARD
TZOFFSETFROM:-0500
TZOFFSETTO:-0600
TZNAME:CST
DTSTART:20181104T070000
END:STANDARD
BEGIN:DAYLIGHT
TZOFFSETFROM:-0600
TZOFFSETTO:-0500
TZNAME:CDT
DTSTART:20190310T080000
END:DAYLIGHT
BEGIN:STANDARD
TZOFFSETFROM:-0500
TZOFFSETTO:-0600
TZNAME:CST
DTSTART:20191103T070000
END:STANDARD
END:VTIMEZONE
BEGIN:VEVENT
DTSTART;VALUE=DATE:20181118
DTEND;VALUE=DATE:20181121
DTSTAMP:20260420T113635
CREATED:20181102T212344Z
LAST-MODIFIED:20181102T212344Z
UID:4038-1542499200-1542758399@ttaweb.com
SUMMARY:2018 ACCA Conference
DESCRIPTION:The Alabama Community College Association (ACCA) is celebrating its 60th year of promoting professional development and growth opportunities to employees of the Alabama Community College System. This year’s conference theme is “Embracing Change\, Impacting Communities” and is scheduled for November 18-20\, 2018\, at the Renaissance Mobile Riverview Plaza Hotel and Mobile Convention Center. \nThrough general sessions\, concurrent sessions\, and commission meetings\, participants will take away innovative ideas\, current best practices\, and a chance to network with colleagues from around the system. The conference supports the following tracks: \nTeaching & Learning\nStudent Success and Services\nLeadership Development\nStaff Development\nWorkforce Development
URL:https://ttaweb.com/event/2018-acca-conference/
LOCATION:Renaissance Mobile Riverview Plaza Hotel\, 64 South Water Street\, Mobile\, AL\, 36602\, United States
CATEGORIES:Events
ATTACH;FMTTYPE=image/jpeg:https://ttaweb.com/wp-content/uploads/2018/11/0ed6940d34e342ecb9ac2b78fb8d2c21.jpg
END:VEVENT
END:VCALENDAR